BEGIN:VCALENDAR
VERSION:2.0
PRODID:-//Tukios.com/
BEGIN:VEVENT
UID:3382ed83-1420-41f1-8706-3b348eca3ea8@www.mannsfuneralhome.com
DTSTAMP:20260424T202648Z
DTSTART:20260502T150000Z
DTEND:20260502T160000Z
SUMMARY:Funeral Service
DESCRIPTION:
URL:https://www.mannsfuneralhome.com/obituaries/cameron-gross
LOCATION: 17000 Middlebelt Rd  Livonia MI 48154
GEO:42.4117007;-83.3345619
END:VEVENT
END:VCALENDAR