BEGIN:VCALENDAR
VERSION:2.0
PRODID:-//Tukios.com/
BEGIN:VEVENT
UID:8739fad6-e824-4915-9a91-69f1c78c6e35@www.mannsfuneralhome.com
DTSTAMP:20260424T202352Z
DTSTART:20260501T190000Z
DTEND:20260502T000000Z
SUMMARY:Visitation
DESCRIPTION:
URL:https://www.mannsfuneralhome.com/obituaries/cameron-gross
LOCATION: 17000 Middlebelt Rd  Livonia MI 48154
GEO:42.4117007;-83.3345619
END:VEVENT
END:VCALENDAR